BEGIN:VCALENDAR
VERSION:2.0
PRODID:-//wp-events-plugin.com//7.2.3.1//EN
TZID:America/Chicago
X-WR-TIMEZONE:America/Chicago
BEGIN:VEVENT
UID:548@lancasterumc.org
DTSTART;TZID=America/Chicago:20260401T070000
DTEND;TZID=America/Chicago:20260401T070000
DTSTAMP:20251203T023022Z
URL:https://www.lancasterumc.org/events/um-men-at-700-a-m-2026-04-01/
SUMMARY:7:00 UM Men
DESCRIPTION:The United Methodist Men meet for breakfast and fellowship the 
 first Wednesday of each month at 7:00 a.m. at McDonald’s in Lancaster.
CATEGORIES:UM Men
LOCATION:McDonald's\, 120 W Alona Ln\, Lancaster\, WI\, 53813\, United Stat
 es
X-APPLE-STRUCTURED-LOCATION;VALUE=URI;X-ADDRESS=120 W Alona Ln\, Lancaster\
 , WI\, 53813\, United States;X-APPLE-RADIUS=100;X-TITLE=McDonald's:geo:0,0
END:VEVENT
BEGIN:VTIMEZONE
TZID:America/Chicago
X-LIC-LOCATION:America/Chicago
BEGIN:DAYLIGHT
DTSTART:20260308T030000
TZOFFSETFROM:-0600
TZOFFSETTO:-0500
TZNAME:CDT
END:DAYLIGHT
END:VTIMEZONE
END:VCALENDAR