BEGIN:VCALENDAR
VERSION:2.0
PRODID:-//wp-events-plugin.com//7.2.3.1//EN
TZID:America/Chicago
X-WR-TIMEZONE:America/Chicago
BEGIN:VEVENT
UID:545@lancasterumc.org
DTSTART;TZID=America/Chicago:20260107T070000
DTEND;TZID=America/Chicago:20260107T070000
DTSTAMP:20251203T023022Z
URL:https://www.lancasterumc.org/events/um-men-at-700-a-m-2026-01-07/
SUMMARY:7:00 UM Men
DESCRIPTION:The United Methodist Men meet for breakfast and fellowship the 
 first Wednesday of each month at 7:00 a.m. at McDonald’s in Lancaster.
CATEGORIES:UM Men
LOCATION:McDonald's\, 120 W Alona Ln\, Lancaster\, WI\, 53813\, United Stat
 es
X-APPLE-STRUCTURED-LOCATION;VALUE=URI;X-ADDRESS=120 W Alona Ln\, Lancaster\
 , WI\, 53813\, United States;X-APPLE-RADIUS=100;X-TITLE=McDonald's:geo:0,0
END:VEVENT
BEGIN:VTIMEZONE
TZID:America/Chicago
X-LIC-LOCATION:America/Chicago
BEGIN:STANDARD
DTSTART:20251102T010000
TZOFFSETFROM:-0500
TZOFFSETTO:-0600
TZNAME:CST
END:STANDARD
END:VTIMEZONE
END:VCALENDAR