BEGIN:VCALENDAR
VERSION:2.0
PRODID:-//wp-events-plugin.com//7.2.3.1//EN
TZID:America/Chicago
X-WR-TIMEZONE:America/Chicago
BEGIN:VEVENT
UID:1169@lancasterumc.org
DTSTART;TZID=America/Chicago:20251203T120000
DTEND;TZID=America/Chicago:20251217T130000
DTSTAMP:20251203T023401Z
URL:https://www.lancasterumc.org/events/soup-scripture/
SUMMARY:12:00-1:00 Soup & Scripture
DESCRIPTION:Soup and Scripture Bible Study\, “An Advent Journey”\nWedne
 sdays\, during Advent\, from 12:00 noon to 1:00 on December 3\, 10 and 17.
 \n\nAdvent is simply a time of attentive waiting and preparation. Join us 
 on the three December Wednesdays before Christmas Eve at lunchtime for an 
 Advent journey to discover that waiting is not a waste of time when you wa
 it on the Lord.\nTake this opportunity to discover the great hope that the
  Advent journey offers.
CATEGORIES:Soup &amp; Scripture
LOCATION:Lancaster United Methodist Church\, 216 South Monroe Street P.O. B
 ox 186\, Lancaster\, WI\, 53813\, United States
X-APPLE-STRUCTURED-LOCATION;VALUE=URI;X-ADDRESS=216 South Monroe Street P.O
 . Box 186\, Lancaster\, WI\, 53813\, United States;X-APPLE-RADIUS=100;X-TI
 TLE=Lancaster United Methodist Church:geo:0,0
END:VEVENT
BEGIN:VTIMEZONE
TZID:America/Chicago
X-LIC-LOCATION:America/Chicago
BEGIN:STANDARD
DTSTART:20251102T010000
TZOFFSETFROM:-0500
TZOFFSETTO:-0600
TZNAME:CST
END:STANDARD
END:VTIMEZONE
END:VCALENDAR