BEGIN:VCALENDAR
VERSION:2.0
PRODID:-//wp-events-plugin.com//7.2.3.1//EN
TZID:America/Chicago
X-WR-TIMEZONE:America/Chicago
BEGIN:VEVENT
UID:1167@lancasterumc.org
DTSTART;TZID=America/Chicago:20251210T170000
DTEND;TZID=America/Chicago:20251210T200000
DTSTAMP:20251203T023549Z
URL:https://www.lancasterumc.org/events/preschool-gift-wrapping/
SUMMARY:5:00-8:00 Preschool Gift Wrapping
DESCRIPTION:The Preschool will be having two fun evenings of Gift Wrapping 
 from 5:00 to 8:00 pm on Wednesday\, December 10 and Monday\, December 22! 
 For a donation of $5.00 or more per gift\, they will wrap your gifts for y
 ou! Choose from their selection of wrapping paper and ribbons\, or bring y
 our own. All proceeds benefit the preschool. Thank you for your support!\n
 \n
CATEGORIES:Preschool
END:VEVENT
BEGIN:VTIMEZONE
TZID:America/Chicago
X-LIC-LOCATION:America/Chicago
BEGIN:STANDARD
DTSTART:20251102T010000
TZOFFSETFROM:-0500
TZOFFSETTO:-0600
TZNAME:CST
END:STANDARD
END:VTIMEZONE
END:VCALENDAR