BEGIN:VCALENDAR
VERSION:2.0
PRODID:-//wp-events-plugin.com//7.2.3.1//EN
TZID:America/Chicago
X-WR-TIMEZONE:America/Chicago
BEGIN:VEVENT
UID:1160@lancasterumc.org
DTSTART;TZID=America/Chicago:20261021T100000
DTEND;TZID=America/Chicago:20261021T110000
DTSTAMP:20251203T023221Z
URL:https://www.lancasterumc.org/events/prayer-shawl-2-2026-10-21/
SUMMARY:10:00 Prayer Shawl
DESCRIPTION:The Prayer Shawl Ministry is an ecumenical group which meets th
 e 1st and 3rd Wednesdays of each month at 10:00 a.m. to knit and crochet p
 rayer shawls. The prayer shawls are given to individuals going through cha
 llenging times\, or to welcome new people to the community\, or simply to 
 let someone know that we care and are praying for them.
END:VEVENT
BEGIN:VTIMEZONE
TZID:America/Chicago
X-LIC-LOCATION:America/Chicago
BEGIN:DAYLIGHT
DTSTART:20260308T030000
TZOFFSETFROM:-0600
TZOFFSETTO:-0500
TZNAME:CDT
END:DAYLIGHT
END:VTIMEZONE
END:VCALENDAR