BEGIN:VCALENDAR
VERSION:2.0
PRODID:-//wp-events-plugin.com//7.2.3.1//EN
TZID:America/Chicago
X-WR-TIMEZONE:America/Chicago
BEGIN:VEVENT
UID:478@lancasterumc.org
DTSTART;TZID=America/Chicago:20250908T170000
DTEND;TZID=America/Chicago:20250908T190000
DTSTAMP:20250829T193734Z
URL:https://www.lancasterumc.org/events/pasty-dinner-from-500-700-p-m/
SUMMARY:Pasty Dinner from 5:00–7:00 p.m.
DESCRIPTION:Join us for a delicious Pasty Supper! Serving from 5:00 – 7:0
 0 p.m. Homemade pasties\, coleslaw\, rolls\, desserts\, and beverages.\n\n
 Home delivery within the city of Lancaster is available. Please call the c
 hurch office with the address and number of meals requested.
CATEGORIES:Church Dinners
LOCATION:Lancaster United Methodist Church\, 216 South Monroe Street P.O. B
 ox 186\, Lancaster\, WI\, 53813\, United States
X-APPLE-STRUCTURED-LOCATION;VALUE=URI;X-ADDRESS=216 South Monroe Street P.O
 . Box 186\, Lancaster\, WI\, 53813\, United States;X-APPLE-RADIUS=100;X-TI
 TLE=Lancaster United Methodist Church:geo:0,0
END:VEVENT
BEGIN:VTIMEZONE
TZID:America/Chicago
X-LIC-LOCATION:America/Chicago
BEGIN:DAYLIGHT
DTSTART:20250309T030000
TZOFFSETFROM:-0600
TZOFFSETTO:-0500
TZNAME:CDT
END:DAYLIGHT
END:VTIMEZONE
END:VCALENDAR