BEGIN:VCALENDAR
VERSION:2.0
PRODID:-//wp-events-plugin.com//7.2.3.1//EN
TZID:America/Chicago
X-WR-TIMEZONE:America/Chicago
BEGIN:VEVENT
UID:1014@lancasterumc.org
DTSTART;TZID=America/Chicago:20270627T100000
DTEND;TZID=America/Chicago:20270627T110000
DTSTAMP:20251203T024043Z
URL:https://www.lancasterumc.org/events/live-streaming-at-1000-a-m-2027-06
 -27/
SUMMARY:10:00 Live Streaming
DESCRIPTION:Worship services are live streamed on our Facebook page each we
 ek at 10:00 a.m.
CATEGORIES:Live Streaming
LOCATION:Lancaster United Methodist Church\, 216 South Monroe Street P.O. B
 ox 186\, Lancaster\, WI\, 53813\, United States
X-APPLE-STRUCTURED-LOCATION;VALUE=URI;X-ADDRESS=216 South Monroe Street P.O
 . Box 186\, Lancaster\, WI\, 53813\, United States;X-APPLE-RADIUS=100;X-TI
 TLE=Lancaster United Methodist Church:geo:0,0
END:VEVENT
BEGIN:VTIMEZONE
TZID:America/Chicago
X-LIC-LOCATION:America/Chicago
BEGIN:DAYLIGHT
DTSTART:20270314T030000
TZOFFSETFROM:-0600
TZOFFSETTO:-0500
TZNAME:CDT
END:DAYLIGHT
END:VTIMEZONE
END:VCALENDAR