BEGIN:VCALENDAR
VERSION:2.0
PRODID:-//wp-events-plugin.com//7.2.3.1//EN
TZID:America/Chicago
X-WR-TIMEZONE:America/Chicago
BEGIN:VEVENT
UID:1102@lancasterumc.org
DTSTART;TZID=America/Chicago:20270704T000000
DTEND;TZID=America/Chicago:20270704T235900
DTSTAMP:20250904T190449Z
URL:https://www.lancasterumc.org/events/independence-day-2025-07-04-2026-0
 7-04-2027-07-04/
SUMMARY:Independence Day
DESCRIPTION:
CATEGORIES:Holiday
END:VEVENT
BEGIN:VTIMEZONE
TZID:America/Chicago
X-LIC-LOCATION:America/Chicago
BEGIN:DAYLIGHT
DTSTART:20270314T030000
TZOFFSETFROM:-0600
TZOFFSETTO:-0500
TZNAME:CDT
END:DAYLIGHT
END:VTIMEZONE
END:VCALENDAR