BEGIN:VCALENDAR
VERSION:2.0
PRODID:-//wp-events-plugin.com//7.2.3.1//EN
TZID:America/Chicago
X-WR-TIMEZONE:America/Chicago
BEGIN:VEVENT
UID:1129@lancasterumc.org
DTSTART;TZID=America/Chicago:20250920T160000
DTEND;TZID=America/Chicago:20250920T210000
DTSTAMP:20250918T011451Z
URL:https://www.lancasterumc.org/events/grant-co-cancer-coalition-benefit/
SUMMARY:Grant Co. Cancer Coalition Benefit
DESCRIPTION:The annual benefit for the Grant County Cancer Coalition will b
 e held at the Youth &amp\; Ag Building\, on the fairgrounds\, in Lancaster
 . The event includes a dinner with serving starting at 4:00 p.m.\, a silen
 t auction\, a luminary memorial service at 6:00\, and a live auction at 7:
 00 p.m. All money raised at the benefit stays here in Grant County to help
  families dealing with cancer.\n\n
END:VEVENT
BEGIN:VTIMEZONE
TZID:America/Chicago
X-LIC-LOCATION:America/Chicago
BEGIN:DAYLIGHT
DTSTART:20250309T030000
TZOFFSETFROM:-0600
TZOFFSETTO:-0500
TZNAME:CDT
END:DAYLIGHT
END:VTIMEZONE
END:VCALENDAR