BEGIN:VCALENDAR
VERSION:2.0
PRODID:-//wp-events-plugin.com//7.2.3.1//EN
TZID:America/Chicago
X-WR-TIMEZONE:America/Chicago
BEGIN:VEVENT
UID:1174@lancasterumc.org
DTSTART;TZID=America/Chicago:20260104T100000
DTEND;TZID=America/Chicago:20260104T110000
DTSTAMP:20251123T224727Z
URL:https://www.lancasterumc.org/events/festival-of-gifts/
SUMMARY:Festival of Gifts
DESCRIPTION:“Festival of Gifts” special worship service on Sunday\, Jan
 uary 4\, 2026\, Epiphany Sunday at 10:00 a.m.\n\nThe Magi from the East of
 fered their precious gifts to the baby Jesus. Each of us has gifts that we
  can offer in worship to our Lord.\nThis is a call to present your gifts o
 f music\, readings or poetry and talents during our Epiphany celebration.\
 nJanuary 4 is the day\; prepare your best performance and let's celebrate 
 together!\nContact Bev Mattingly or Pastor Erika if you are interested in 
 participating.\nPiñatas and hot chocolate will follow this celebration!\n
 \nSee the Festival of Gifts - Epiphany Sunday poster
CATEGORIES:Special Events
END:VEVENT
BEGIN:VTIMEZONE
TZID:America/Chicago
X-LIC-LOCATION:America/Chicago
BEGIN:STANDARD
DTSTART:20251102T010000
TZOFFSETFROM:-0500
TZOFFSETTO:-0600
TZNAME:CST
END:STANDARD
END:VTIMEZONE
END:VCALENDAR