BEGIN:VCALENDAR
VERSION:2.0
PRODID:-//wp-events-plugin.com//7.2.3.1//EN
TZID:America/Chicago
X-WR-TIMEZONE:America/Chicago
BEGIN:VEVENT
UID:1098@lancasterumc.org
DTSTART;TZID=America/Chicago:20270620T000000
DTEND;TZID=America/Chicago:20270620T235900
DTSTAMP:20250904T190413Z
URL:https://www.lancasterumc.org/events/fathers-day-2025-06-15-2026-06-21-
 2027-06-20/
SUMMARY:Father's Day
DESCRIPTION:
CATEGORIES:Holiday
END:VEVENT
BEGIN:VTIMEZONE
TZID:America/Chicago
X-LIC-LOCATION:America/Chicago
BEGIN:DAYLIGHT
DTSTART:20270314T030000
TZOFFSETFROM:-0600
TZOFFSETTO:-0500
TZNAME:CDT
END:DAYLIGHT
END:VTIMEZONE
END:VCALENDAR