BEGIN:VCALENDAR
VERSION:2.0
PRODID:-//wp-events-plugin.com//7.2.3.1//EN
TZID:America/Chicago
X-WR-TIMEZONE:America/Chicago
BEGIN:VEVENT
UID:1126@lancasterumc.org
DTSTART;TZID=America/Chicago:20260111T000000
DTEND;TZID=America/Chicago:20260118T235900
DTSTAMP:20251228T021026Z
URL:https://www.lancasterumc.org/events/family-promise-host-week-2025-06-0
 1/
SUMMARY:Family Promise Host Week
DESCRIPTION:Family Promise is an area outreach program providing shelter fo
 r homeless families in Grant County. LUMC serves as a host church providin
 g housing and meals to families with children needing assistance. For more
  information about the Family Promise of Grant County program\, please con
 tact Program Director Kimberly Jacobson\, 608-723-3355. For more informat
 ion about the Family Promise project at LUMC\, please contact Kristin Holm
 an-Steffel or Mary Rasmussen.
CATEGORIES:Family Promise Host Week
LOCATION:Lancaster United Methodist Church\, 216 South Monroe Street P.O. B
 ox 186\, Lancaster\, WI\, 53813\, United States
X-APPLE-STRUCTURED-LOCATION;VALUE=URI;X-ADDRESS=216 South Monroe Street P.O
 . Box 186\, Lancaster\, WI\, 53813\, United States;X-APPLE-RADIUS=100;X-TI
 TLE=Lancaster United Methodist Church:geo:0,0
END:VEVENT
BEGIN:VTIMEZONE
TZID:America/Chicago
X-LIC-LOCATION:America/Chicago
BEGIN:STANDARD
DTSTART:20251102T010000
TZOFFSETFROM:-0500
TZOFFSETTO:-0600
TZNAME:CST
END:STANDARD
END:VTIMEZONE
END:VCALENDAR