BEGIN:VCALENDAR
VERSION:2.0
PRODID:-//wp-events-plugin.com//7.2.3.1//EN
TZID:America/Chicago
X-WR-TIMEZONE:America/Chicago
BEGIN:VEVENT
UID:1163@lancasterumc.org
DTSTART;TZID=America/Chicago:20251109T113000
DTEND;TZID=America/Chicago:20251109T133000
DTSTAMP:20251030T014559Z
URL:https://www.lancasterumc.org/events/fall-luncheon/
SUMMARY:Fall Luncheon
DESCRIPTION:The United Women in Faith (UWIF) fall luncheon will be Sunday\,
  November 9\, 2025\, with serving from 11:30 a.m. to 1:00 p.m. Menu includ
 es chicken casserole\, squash\, salads\, desserts and beverages.  Canned 
 beef is available for sale. Carry-outs will be available. Tickets may be p
 urchased prior to the day or at the door.
CATEGORIES:Church Dinners
END:VEVENT
BEGIN:VTIMEZONE
TZID:America/Chicago
X-LIC-LOCATION:America/Chicago
BEGIN:STANDARD
DTSTART:20251102T010000
TZOFFSETFROM:-0500
TZOFFSETTO:-0600
TZNAME:CST
END:STANDARD
END:VTIMEZONE
END:VCALENDAR