BEGIN:VCALENDAR
VERSION:2.0
PRODID:-//wp-events-plugin.com//7.2.3.1//EN
TZID:America/Chicago
X-WR-TIMEZONE:America/Chicago
BEGIN:VEVENT
UID:1090@lancasterumc.org
DTSTART;TZID=America/Chicago:20270328T000000
DTEND;TZID=America/Chicago:20270328T235900
DTSTAMP:20250904T190148Z
URL:https://www.lancasterumc.org/events/easter-sunday-2025-04-20-2026-04-0
 5-2027-03-28/
SUMMARY:Easter Sunday!
DESCRIPTION:Hallelujah! He has Risen! Join us as we celebrate Easter Sunday
  and our risen Savior!
CATEGORIES:Holiday
END:VEVENT
BEGIN:VTIMEZONE
TZID:America/Chicago
X-LIC-LOCATION:America/Chicago
BEGIN:DAYLIGHT
DTSTART:20270314T030000
TZOFFSETFROM:-0600
TZOFFSETTO:-0500
TZNAME:CDT
END:DAYLIGHT
END:VTIMEZONE
END:VCALENDAR