BEGIN:VCALENDAR
VERSION:2.0
PRODID:-//wp-events-plugin.com//7.2.3.1//EN
TZID:America/Chicago
X-WR-TIMEZONE:America/Chicago
BEGIN:VEVENT
UID:1166@lancasterumc.org
DTSTART;TZID=America/Chicago:20251116T111500
DTEND;TZID=America/Chicago:20251116T120000
DTSTAMP:20251030T015201Z
URL:https://www.lancasterumc.org/events/church-conference/
SUMMARY:Church Conference
DESCRIPTION:The annual church conference and business meeting will be after
  the worship service\, about 11:15\, on Sunday\, November 16th. This year 
 the meeting will be followed by a potluck dinner and a Packer game on our 
 big screen TV. Be sure to attend!
CATEGORIES:Special Events
END:VEVENT
BEGIN:VTIMEZONE
TZID:America/Chicago
X-LIC-LOCATION:America/Chicago
BEGIN:STANDARD
DTSTART:20251102T010000
TZOFFSETFROM:-0500
TZOFFSETTO:-0600
TZNAME:CST
END:STANDARD
END:VTIMEZONE
END:VCALENDAR