BEGIN:VCALENDAR
VERSION:2.0
PRODID:-//wp-events-plugin.com//7.2.3.1//EN
TZID:America/Chicago
X-WR-TIMEZONE:America/Chicago
BEGIN:VEVENT
UID:1173@lancasterumc.org
DTSTART;TZID=America/Chicago:20251224T190000
DTEND;TZID=America/Chicago:20251224T200000
DTSTAMP:20251203T023740Z
URL:https://www.lancasterumc.org/events/christmas-eve-worship/
SUMMARY:7:00 Christmas Eve Worship
DESCRIPTION:Join us Christmas Eve at 7:00 p.m. for a worship service of les
 sons and carols and candlelight.
CATEGORIES:Worship Service
END:VEVENT
BEGIN:VTIMEZONE
TZID:America/Chicago
X-LIC-LOCATION:America/Chicago
BEGIN:STANDARD
DTSTART:20251102T010000
TZOFFSETFROM:-0500
TZOFFSETTO:-0600
TZNAME:CST
END:STANDARD
END:VTIMEZONE
END:VCALENDAR