BEGIN:VCALENDAR
VERSION:2.0
PRODID:-//wp-events-plugin.com//7.2.3.1//EN
TZID:America/Chicago
X-WR-TIMEZONE:America/Chicago
BEGIN:VEVENT
UID:1069@lancasterumc.org
DTSTART;TZID=America/Chicago:20261224T000000
DTEND;TZID=America/Chicago:20261224T235900
DTSTAMP:20250904T185345Z
URL:https://www.lancasterumc.org/events/christmas-eve-2025-12-24-2026-12-2
 4/
SUMMARY:Christmas Eve
DESCRIPTION:
CATEGORIES:Holiday
END:VEVENT
BEGIN:VTIMEZONE
TZID:America/Chicago
X-LIC-LOCATION:America/Chicago
BEGIN:STANDARD
DTSTART:20261101T010000
TZOFFSETFROM:-0500
TZOFFSETTO:-0600
TZNAME:CST
END:STANDARD
END:VTIMEZONE
END:VCALENDAR