BEGIN:VCALENDAR
VERSION:2.0
PRODID:-//wp-events-plugin.com//7.2.3.1//EN
TZID:America/Chicago
X-WR-TIMEZONE:America/Chicago
BEGIN:VEVENT
UID:1065@lancasterumc.org
DTSTART;TZID=America/Chicago:20271225T000000
DTEND;TZID=America/Chicago:20271225T235900
DTSTAMP:20250904T185224Z
URL:https://www.lancasterumc.org/events/christmas-2025-12-25-2026-12-25-20
 27-12-25/
SUMMARY:Christmas
DESCRIPTION:
CATEGORIES:Holiday
END:VEVENT
BEGIN:VTIMEZONE
TZID:America/Chicago
X-LIC-LOCATION:America/Chicago
BEGIN:STANDARD
DTSTART:20271107T010000
TZOFFSETFROM:-0500
TZOFFSETTO:-0600
TZNAME:CST
END:STANDARD
END:VTIMEZONE
END:VCALENDAR