BEGIN:VCALENDAR
VERSION:2.0
PRODID:-//wp-events-plugin.com//7.2.3.1//EN
TZID:America/Chicago
X-WR-TIMEZONE:America/Chicago
BEGIN:VEVENT
UID:1227@lancasterumc.org
DTSTART;TZID=America/Chicago:20251210T140000
DTEND;TZID=America/Chicago:20251210T150000
DTSTAMP:20251203T022838Z
URL:https://www.lancasterumc.org/events/caroling-at-morningside/
SUMMARY:2:00 Caroling at Morningside
DESCRIPTION:Join us as we visit our friends at Morningside and sing some fa
 vorite Christmas carols.
CATEGORIES:Special Events
END:VEVENT
BEGIN:VTIMEZONE
TZID:America/Chicago
X-LIC-LOCATION:America/Chicago
BEGIN:STANDARD
DTSTART:20251102T010000
TZOFFSETFROM:-0500
TZOFFSETTO:-0600
TZNAME:CST
END:STANDARD
END:VTIMEZONE
END:VCALENDAR