BEGIN:VCALENDAR
VERSION:2.0
PRODID:-//wp-events-plugin.com//7.2.3.1//EN
TZID:America/Chicago
X-WR-TIMEZONE:America/Chicago
BEGIN:VEVENT
UID:1231@lancasterumc.org
DTSTART;TZID=America/Chicago:20260218T190000
DTEND;TZID=America/Chicago:20260218T200000
DTSTAMP:20260207T160225Z
URL:https://www.lancasterumc.org/events/ash-wednesday-worship-700-p-m/
SUMMARY:7:00 p.m. Ash Wednesday Worship
DESCRIPTION:Join us for this meaningful worship service as we mark the begi
 nning of Lent. Ash Wednesday service this year will be held at the United 
 Church of Christ in Potosi.
CATEGORIES:Worship Service
END:VEVENT
BEGIN:VTIMEZONE
TZID:America/Chicago
X-LIC-LOCATION:America/Chicago
BEGIN:STANDARD
DTSTART:20251102T010000
TZOFFSETFROM:-0500
TZOFFSETTO:-0600
TZNAME:CST
END:STANDARD
END:VTIMEZONE
END:VCALENDAR