BEGIN:VCALENDAR
VERSION:2.0
PRODID:-//wp-events-plugin.com//7.2.3.1//EN
TZID:America/Chicago
X-WR-TIMEZONE:America/Chicago
BEGIN:VEVENT
UID:1085@lancasterumc.org
DTSTART;TZID=America/Chicago:20260218T000000
DTEND;TZID=America/Chicago:20260218T235900
DTSTAMP:20250904T190004Z
URL:https://www.lancasterumc.org/events/ash-wednesday-2025-03-05-2026-02-1
 8/
SUMMARY:Ash Wednesday
DESCRIPTION:
CATEGORIES:Holiday
END:VEVENT
BEGIN:VTIMEZONE
TZID:America/Chicago
X-LIC-LOCATION:America/Chicago
BEGIN:STANDARD
DTSTART:20251102T010000
TZOFFSETFROM:-0500
TZOFFSETTO:-0600
TZNAME:CST
END:STANDARD
END:VTIMEZONE
END:VCALENDAR