BEGIN:VCALENDAR
VERSION:2.0
PRODID:-//wp-events-plugin.com//7.2.3.1//EN
TZID:America/Chicago
X-WR-TIMEZONE:America/Chicago
BEGIN:VEVENT
UID:1273@lancasterumc.org
DTSTART;TZID=America/Chicago:20260315T090000
DTEND;TZID=America/Chicago:20260315T094500
DTSTAMP:20260204T033056Z
URL:https://www.lancasterumc.org/events/900-adult-study-class-2026-02-15-2
 026-02-22-2026-03-01-2026-03-08-2026-03-15/
SUMMARY:9:00 Adult Study Class
DESCRIPTION:Our adult study class during Lent will be Sunday mornings\, Feb
 ruary 15 through March 29\, at 9:00 a.m. in the conference room. All are w
 elcome.
CATEGORIES:Adult Bible Study
LOCATION:Lancaster United Methodist Church\, 216 South Monroe Street P.O. B
 ox 186\, Lancaster\, WI\, 53813\, United States
X-APPLE-STRUCTURED-LOCATION;VALUE=URI;X-ADDRESS=216 South Monroe Street P.O
 . Box 186\, Lancaster\, WI\, 53813\, United States;X-APPLE-RADIUS=100;X-TI
 TLE=Lancaster United Methodist Church:geo:0,0
END:VEVENT
BEGIN:VTIMEZONE
TZID:America/Chicago
X-LIC-LOCATION:America/Chicago
BEGIN:DAYLIGHT
DTSTART:20260308T030000
TZOFFSETFROM:-0600
TZOFFSETTO:-0500
TZNAME:CDT
END:DAYLIGHT
END:VTIMEZONE
END:VCALENDAR