BEGIN:VCALENDAR
VERSION:2.0
PRODID:-//wp-events-plugin.com//7.2.3.1//EN
TZID:America/Chicago
X-WR-TIMEZONE:America/Chicago
BEGIN:VEVENT
UID:1197@lancasterumc.org
DTSTART;TZID=America/Chicago:20260603T083000
DTEND;TZID=America/Chicago:20260603T093000
DTSTAMP:20251203T022149Z
URL:https://www.lancasterumc.org/events/830-prayer-group-2026-01-07-2026-0
 1-14-2026-01-21-2026-01-28-2026-02-04-2026-02-11-2026-02-18-2026-02-25-202
 6-03-04-2026-03-11-2026-03-18-2026-03-25-2026-04-01-2026-04-08-2026-04-15-
 2026-27-2026-06-03/
SUMMARY:8:30 Prayer Group
DESCRIPTION:Join Pastor and others for concentrated prayer on Wednesday mor
 nings at 8:30 a.m. at the church or via Zoom. If you would like to join vi
 a Zoom\, please contact the church office and the link will be sent to you
 .
CATEGORIES:Prayer Group
LOCATION:Lancaster United Methodist Church\, 216 South Monroe Street P.O. B
 ox 186\, Lancaster\, WI\, 53813\, United States
X-APPLE-STRUCTURED-LOCATION;VALUE=URI;X-ADDRESS=216 South Monroe Street P.O
 . Box 186\, Lancaster\, WI\, 53813\, United States;X-APPLE-RADIUS=100;X-TI
 TLE=Lancaster United Methodist Church:geo:0,0
END:VEVENT
BEGIN:VTIMEZONE
TZID:America/Chicago
X-LIC-LOCATION:America/Chicago
BEGIN:DAYLIGHT
DTSTART:20260308T030000
TZOFFSETFROM:-0600
TZOFFSETTO:-0500
TZNAME:CDT
END:DAYLIGHT
END:VTIMEZONE
END:VCALENDAR