BEGIN:VCALENDAR
VERSION:2.0
PRODID:-//wp-events-plugin.com//7.2.3.1//EN
TZID:America/Chicago
X-WR-TIMEZONE:America/Chicago
BEGIN:VEVENT
UID:1284@lancasterumc.org
DTSTART;TZID=America/Chicago:20260405T081500
DTEND;TZID=America/Chicago:20260405T091500
DTSTAMP:20260330T012830Z
URL:https://www.lancasterumc.org/events/815-a-m-easter-breakfast/
SUMMARY:8:15 a.m. Easter Breakfast
DESCRIPTION:Join us for breakfast Easter morning! Egg bake dishes\, breads\
 , fruits\, juice and coffee will be provided by the choir. Breakfast will 
 be served following the sunrise worship service.
CATEGORIES:Church Dinners
END:VEVENT
BEGIN:VTIMEZONE
TZID:America/Chicago
X-LIC-LOCATION:America/Chicago
BEGIN:DAYLIGHT
DTSTART:20260308T030000
TZOFFSETFROM:-0600
TZOFFSETTO:-0500
TZNAME:CDT
END:DAYLIGHT
END:VTIMEZONE
END:VCALENDAR