BEGIN:VCALENDAR
VERSION:2.0
PRODID:-//wp-events-plugin.com//7.2.3.1//EN
TZID:America/Chicago
X-WR-TIMEZONE:America/Chicago
BEGIN:VEVENT
UID:1285@lancasterumc.org
DTSTART;TZID=America/Chicago:20260507T170000
DTEND;TZID=America/Chicago:20260507T190000
DTSTAMP:20260403T003437Z
URL:https://www.lancasterumc.org/events/500-700-uwif-spring-dinner/
SUMMARY:5:00-7:00 UWIF Spring Dinner
DESCRIPTION:United Women in Faith Spring Dinner!\nThursday\, May 7\, 2026\,
  serving 5:00-7:00\nBBQs\, Turkey Salad or Egg Salad Sandwiches\nPotato Sa
 lad\, Baked Beans\, Pie\, Ice Cream\, Beverage\nAdults $12.00 Children $6.
 00\nCarryouts available
CATEGORIES:Church Dinners
LOCATION:Lancaster United Methodist Church\, 216 South Monroe Street P.O. B
 ox 186\, Lancaster\, WI\, 53813\, United States
X-APPLE-STRUCTURED-LOCATION;VALUE=URI;X-ADDRESS=216 South Monroe Street P.O
 . Box 186\, Lancaster\, WI\, 53813\, United States;X-APPLE-RADIUS=100;X-TI
 TLE=Lancaster United Methodist Church:geo:0,0
END:VEVENT
BEGIN:VTIMEZONE
TZID:America/Chicago
X-LIC-LOCATION:America/Chicago
BEGIN:DAYLIGHT
DTSTART:20260308T030000
TZOFFSETFROM:-0600
TZOFFSETTO:-0500
TZNAME:CDT
END:DAYLIGHT
END:VTIMEZONE
END:VCALENDAR