BEGIN:VCALENDAR
VERSION:2.0
PRODID:-//wp-events-plugin.com//7.2.3.1//EN
TZID:America/Chicago
X-WR-TIMEZONE:America/Chicago
BEGIN:VEVENT
UID:1230@lancasterumc.org
DTSTART;TZID=America/Chicago:20260209T170000
DTEND;TZID=America/Chicago:20260209T190000
DTSTAMP:20260204T030425Z
URL:https://www.lancasterumc.org/events/500-700-pasty-dinner/
SUMMARY:5:00-7:00 Pasty Dinner
DESCRIPTION:Pasty supper\, Monday\, February 9\, 2026. Serving from 5:00 to
  7:00. 
CATEGORIES:Church Dinners
END:VEVENT
BEGIN:VTIMEZONE
TZID:America/Chicago
X-LIC-LOCATION:America/Chicago
BEGIN:STANDARD
DTSTART:20251102T010000
TZOFFSETFROM:-0500
TZOFFSETTO:-0600
TZNAME:CST
END:STANDARD
END:VTIMEZONE
END:VCALENDAR