BEGIN:VCALENDAR
VERSION:2.0
PRODID:-//wp-events-plugin.com//7.2.3.1//EN
TZID:America/Chicago
X-WR-TIMEZONE:America/Chicago
BEGIN:VEVENT
UID:1265@lancasterumc.org
DTSTART;TZID=America/Chicago:20260429T153000
DTEND;TZID=America/Chicago:20260429T170000
DTSTAMP:20260204T032507Z
URL:https://www.lancasterumc.org/events/330-500-circle-of-friends-2026-01-
 21-2026-01-28-2026-02-04-2026-02-11-2026-02-18-2026-02-25-2026-03-04-2026-
 03-11-2026-03-18-2026-03-25-2026-04-01-2026-04-08-2026-04-15-2026-04-22-20
 26-04-29/
SUMMARY:3:30-5:00 Circle of Friends
DESCRIPTION:“Circle of Friends” is an after-school ecumenical Christian
  education program for school-age children. The group will meet at LUMC ea
 ch Wednesday from 3:30 to 5:00 p.m.. All are welcome to participate!
CATEGORIES:Circle of Friends
LOCATION:Lancaster United Methodist Church\, 216 South Monroe Street P.O. B
 ox 186\, Lancaster\, WI\, 53813\, United States
X-APPLE-STRUCTURED-LOCATION;VALUE=URI;X-ADDRESS=216 South Monroe Street P.O
 . Box 186\, Lancaster\, WI\, 53813\, United States;X-APPLE-RADIUS=100;X-TI
 TLE=Lancaster United Methodist Church:geo:0,0
END:VEVENT
BEGIN:VTIMEZONE
TZID:America/Chicago
X-LIC-LOCATION:America/Chicago
BEGIN:DAYLIGHT
DTSTART:20260308T030000
TZOFFSETFROM:-0600
TZOFFSETTO:-0500
TZNAME:CDT
END:DAYLIGHT
END:VTIMEZONE
END:VCALENDAR