BEGIN:VCALENDAR
VERSION:2.0
PRODID:-//wp-events-plugin.com//7.2.3.1//EN
TZID:America/Chicago
X-WR-TIMEZONE:America/Chicago
BEGIN:VEVENT
UID:1277@lancasterumc.org
DTSTART;TZID=America/Chicago:20260225T120000
DTEND;TZID=America/Chicago:20260225T130000
DTSTAMP:20260204T033420Z
URL:https://www.lancasterumc.org/events/1200-100-soup-scripture-2026-02-25
 /
SUMMARY:12:00-1:00 Soup & Scripture
DESCRIPTION:Soup &amp\; Scripture for the Lenten season will be Wednesdays 
 from noon to 1:00 in the fellowship hall. Join us as we lunch\, learn and 
 grow. All are welcome.
CATEGORIES:Soup &amp; Scripture
LOCATION:Lancaster United Methodist Church\, 216 South Monroe Street P.O. B
 ox 186\, Lancaster\, WI\, 53813\, United States
X-APPLE-STRUCTURED-LOCATION;VALUE=URI;X-ADDRESS=216 South Monroe Street P.O
 . Box 186\, Lancaster\, WI\, 53813\, United States;X-APPLE-RADIUS=100;X-TI
 TLE=Lancaster United Methodist Church:geo:0,0
END:VEVENT
BEGIN:VTIMEZONE
TZID:America/Chicago
X-LIC-LOCATION:America/Chicago
BEGIN:STANDARD
DTSTART:20251102T010000
TZOFFSETFROM:-0500
TZOFFSETTO:-0600
TZNAME:CST
END:STANDARD
END:VTIMEZONE
END:VCALENDAR