BEGIN:VCALENDAR
VERSION:2.0
PRODID:-//wp-events-plugin.com//7.2.3.1//EN
TZID:America/Chicago
X-WR-TIMEZONE:America/Chicago
BEGIN:VEVENT
UID:1282@lancasterumc.org
DTSTART;TZID=America/Chicago:20260215T113000
DTEND;TZID=America/Chicago:20260215T143000
DTSTAMP:20260207T160933Z
URL:https://www.lancasterumc.org/events/1130-potluck-and-movie/
SUMMARY:11:30 Potluck and movie
DESCRIPTION:Join us after worship on Sunday\, February 15\, for potluck din
 ner. Then we will watch the movie "Les Miserables" in the fellowship hall.
  The six Soup &amp\; Scripture Lenten studies will be focused on this movi
 e and the ideals of grace\, justice\, poverty\, revolution\, love\, and ho
 pe\, that are found in the story.
CATEGORIES:Special Events
LOCATION:Lancaster United Methodist Church\, 216 South Monroe Street P.O. B
 ox 186\, Lancaster\, WI\, 53813\, United States
X-APPLE-STRUCTURED-LOCATION;VALUE=URI;X-ADDRESS=216 South Monroe Street P.O
 . Box 186\, Lancaster\, WI\, 53813\, United States;X-APPLE-RADIUS=100;X-TI
 TLE=Lancaster United Methodist Church:geo:0,0
END:VEVENT
BEGIN:VTIMEZONE
TZID:America/Chicago
X-LIC-LOCATION:America/Chicago
BEGIN:STANDARD
DTSTART:20251102T010000
TZOFFSETFROM:-0500
TZOFFSETTO:-0600
TZNAME:CST
END:STANDARD
END:VTIMEZONE
END:VCALENDAR