BEGIN:VCALENDAR
VERSION:2.0
PRODID:-//wp-events-plugin.com//7.2.3.1//EN
TZID:America/Chicago
X-WR-TIMEZONE:America/Chicago
BEGIN:VEVENT
UID:1228@lancasterumc.org
DTSTART;TZID=America/Chicago:20260125T111500
DTEND;TZID=America/Chicago:20260125T123000
DTSTAMP:20251228T020731Z
URL:https://www.lancasterumc.org/events/1115-chili-soup-lunch/
SUMMARY:11:15 Chili Soup Lunch
DESCRIPTION:The preschool will be hosting a chili soup luncheon on Sunday\,
  January 25\, immediately following worship. Please join us for some delic
 ious food and great fellowship. A fun opportunity to support the preschool
 !
CATEGORIES:Preschool
END:VEVENT
BEGIN:VTIMEZONE
TZID:America/Chicago
X-LIC-LOCATION:America/Chicago
BEGIN:STANDARD
DTSTART:20251102T010000
TZOFFSETFROM:-0500
TZOFFSETTO:-0600
TZNAME:CST
END:STANDARD
END:VTIMEZONE
END:VCALENDAR